BEGIN:VCALENDAR
VERSION:2.0
PRODID:-//jEvents 2.0 for Joomla//EN
CALSCALE:GREGORIAN
METHOD:PUBLISH
BEGIN:VTIMEZONE
TZID:Europe/Zurich
BEGIN:STANDARD
DTSTART:20231029T020000
RDATE:20240331T030000
TZOFFSETFROM:+0200
TZOFFSETTO:+0100
TZNAME:Europe/Zurich CET
END:STANDARD
BEGIN:STANDARD
DTSTART:20241027T020000
RDATE:20250330T030000
TZOFFSETFROM:+0200
TZOFFSETTO:+0100
TZNAME:Europe/Zurich CET
END:STANDARD
BEGIN:STANDARD
DTSTART:20251026T020000
RDATE:20260329T030000
TZOFFSETFROM:+0200
TZOFFSETTO:+0100
TZNAME:Europe/Zurich CET
END:STANDARD
BEGIN:STANDARD
DTSTART:20261025T020000
RDATE:20270328T030000
TZOFFSETFROM:+0200
TZOFFSETTO:+0100
TZNAME:Europe/Zurich CET
END:STANDARD
BEGIN:STANDARD
DTSTART:20271031T020000
RDATE:20280326T030000
TZOFFSETFROM:+0200
TZOFFSETTO:+0100
TZNAME:Europe/Zurich CET
END:STANDARD
BEGIN:STANDARD
DTSTART:20281029T020000
RDATE:20290325T030000
TZOFFSETFROM:+0200
TZOFFSETTO:+0100
TZNAME:Europe/Zurich CET
END:STANDARD
BEGIN:STANDARD
DTSTART:20291028T020000
RDATE:20300331T030000
TZOFFSETFROM:+0200
TZOFFSETTO:+0100
TZNAME:Europe/Zurich CET
END:STANDARD
BEGIN:STANDARD
DTSTART:20301027T020000
RDATE:20310330T030000
TZOFFSETFROM:+0200
TZOFFSETTO:+0100
TZNAME:Europe/Zurich CET
END:STANDARD
BEGIN:DAYLIGHT
DTSTART:20230601T083000
RDATE:20231029T020000
TZOFFSETFROM:+0100
TZOFFSETTO:+0200
TZNAME:Europe/Zurich CEST
END:DAYLIGHT
BEGIN:DAYLIGHT
DTSTART:20240331T030000
RDATE:20241027T020000
TZOFFSETFROM:+0100
TZOFFSETTO:+0200
TZNAME:Europe/Zurich CEST
END:DAYLIGHT
BEGIN:DAYLIGHT
DTSTART:20250330T030000
RDATE:20251026T020000
TZOFFSETFROM:+0100
TZOFFSETTO:+0200
TZNAME:Europe/Zurich CEST
END:DAYLIGHT
BEGIN:DAYLIGHT
DTSTART:20260329T030000
RDATE:20261025T020000
TZOFFSETFROM:+0100
TZOFFSETTO:+0200
TZNAME:Europe/Zurich CEST
END:DAYLIGHT
BEGIN:DAYLIGHT
DTSTART:20270328T030000
RDATE:20271031T020000
TZOFFSETFROM:+0100
TZOFFSETTO:+0200
TZNAME:Europe/Zurich CEST
END:DAYLIGHT
BEGIN:DAYLIGHT
DTSTART:20280326T030000
RDATE:20281029T020000
TZOFFSETFROM:+0100
TZOFFSETTO:+0200
TZNAME:Europe/Zurich CEST
END:DAYLIGHT
BEGIN:DAYLIGHT
DTSTART:20290325T030000
RDATE:20291028T020000
TZOFFSETFROM:+0100
TZOFFSETTO:+0200
TZNAME:Europe/Zurich CEST
END:DAYLIGHT
BEGIN:DAYLIGHT
DTSTART:20300331T030000
RDATE:20301027T020000
TZOFFSETFROM:+0100
TZOFFSETTO:+0200
TZNAME:Europe/Zurich CEST
END:DAYLIGHT
END:VTIMEZONE
BEGIN:VEVENT
UID:cdd6ae33c15a31d39f6fb8bd21f9d599
CATEGORIES:GIRON 2
CREATED:20240212T105345
SUMMARY:LA FRATERNITÉ : T I - 150e anniversaire
LOCATION:Yverdon-les-Bains
DESCRIPTION:La J.·. et P.·. Loge LA FRATERNITÉ à l’Or.·. d'Yverdon-Les-Bains vous invit
 e à participer le Samedi 1er juin 6024 dès 08h30 à la Tenue Solennelle qui 
 se déroulera à l’occasion de son 150e anniversaire.\n\nProgramme :\n\n8 h.3
 0 Réception des FF.·. - Livre d’Or - Cafés - Croissants.\n9 h.30 Tenue Sole
 nnelle au Temple.\n\n - Entrée du TRGM.·. Carlo U. NICOLA au son de la Corn
 emuse.\n - Remise de la médaille d’Argent à notre Frère E. T. pour 50 ans d
 ’appartenance à notre Ordre.\n - Moment d’Histoire.11 h.30 Apéritif offert 
 par la Loge.\n13 h.30 Agape Rituelle dans les locaux de la Loge.\n\nPrix du
  Triangle : CHF 65.-- comprenant l’agape et les boissons.\nINSCRIPTION : ht
 tps://www.loge-la-fraternite.ch/conf%C3%A9rences (https://www.loge-la-frate
 rnite.ch/conf%C3%A9rences)\n
X-ALT-DESC;FMTTYPE=text/html:<p>La J.·. et P.·. Loge LA FRATERNITÉ à l’Or.·. d'Yverdon-Les-Bains vous in
 vite à participer le<strong> Samedi 1<sup>er</sup> juin 6024</strong> dès<s
 trong> 08h30</strong> à la Tenue Solennelle qui se déroulera à l’occasion d
 e son 150<sup>e</sup> anniversaire.<br><br><strong>Programme :<br></strong>
 <br><strong>8 h.30</strong> Réception des FF.·. - Livre d’Or - Cafés - Croi
 ssants.<br><strong>9 h.30</strong> Tenue Solennelle au Temple.</p><ul><li>E
 ntrée du TRGM.·. Carlo U. NICOLA au son de la Cornemuse.</li><li>Remise de 
 la médaille d’Argent à notre Frère E. T. pour 50 ans d’appartenance à notre
  Ordre.</li><li>Moment d’Histoire.</li></ul><p><strong>11 h.30</strong> Apé
 ritif offert par la Loge.<br><strong>13 h.30</strong> Agape Rituelle dans l
 es locaux de la Loge.</p><p><br>Prix du Triangle : CHF 65.-- comprenant l’a
 gape et les boissons.</p><p>INSCRIPTION : <a href="https://www.loge-la-frat
 ernite.ch/conf%C3%A9rences" target="_blank" rel="noopener">https://www.loge
 -la-fraternite.ch/conf%C3%A9rences</a></p>
CONTACT:: Cette adresse e-mail est protégée contre les robots spammeurs. Vous devez activer le JavaScript pour la visualiser.
X-EXTRAINFO:Inscription exclusivement réservée aux membres de la franc-maçonnerie ...
DTSTAMP:20260425T001651
DTSTART;TZID=Europe/Zurich:20240601T083000
SEQUENCE:0
TRANSP:OPAQUE
END:VEVENT
END:VCALENDAR